BEGIN:VCALENDAR
VERSION:2.0
PRODID:-//Think Art Project - ECPv6.15.20//NONSGML v1.0//EN
CALSCALE:GREGORIAN
METHOD:PUBLISH
X-WR-CALNAME:Think Art Project
X-ORIGINAL-URL:https://thinkartproject.com
X-WR-CALDESC:Events for Think Art Project
REFRESH-INTERVAL;VALUE=DURATION:PT1H
X-Robots-Tag:noindex
X-PUBLISHED-TTL:PT1H
BEGIN:VTIMEZONE
TZID:UTC
BEGIN:STANDARD
TZOFFSETFROM:+0000
TZOFFSETTO:+0000
TZNAME:UTC
DTSTART:20180101T000000
END:STANDARD
END:VTIMEZONE
BEGIN:VEVENT
DTSTART;TZID=UTC:20191229T140000
DTEND;TZID=UTC:20191229T150000
DTSTAMP:20260425T161608
CREATED:20190916T201827Z
LAST-MODIFIED:20190916T201832Z
UID:1554-1577628000-1577631600@thinkartproject.com
SUMMARY:Think ART Committee meeting
DESCRIPTION:
URL:https://thinkartproject.com/event/think-art-committee-meeting-4/
LOCATION:Think Idea Studio\, 121 North Main Street\, Searcy\, AR\, 72143\, United States
END:VEVENT
BEGIN:VEVENT
DTSTART;TZID=UTC:20191206T183000
DTEND;TZID=UTC:20191206T183000
DTSTAMP:20260425T161608
CREATED:20190916T202438Z
LAST-MODIFIED:20190916T202705Z
UID:1562-1575657000-1575657000@thinkartproject.com
SUMMARY:1st Friday Art Night
DESCRIPTION:1st Friday Art Night is held the first Friday of every month in 2019! Come out to Art Alley in downtown Searcy across from Citizens Park\, behind Daisy’s Lunchbox. \nEnjoy live music\, great food\, and local artists working live in Art Alley. Don’t forget to stop by studios around Searcy who will also be open\, including: \n–Make.Do.\n–AJ’s Art Studio (Starting at 5:30pm)\n–Glass from the Past\n–Searcy Art Gallery\n–Gallery 803 (803 N Oak St.)\n–Midnight Oil\n–Stevens Art Galleries (Harding University)\n–Pollard Studio\n–Frans Art and Frame\n–The Artistry\n–Art Alley begins at 6:30 pm and has no set ending time.
URL:https://thinkartproject.com/event/1st-friday-art-night-3/
LOCATION:Art Alley
ATTACH;FMTTYPE=image/jpeg:https://thinkartproject.com/wp-content/uploads/2019/07/IMG_2554.jpg
END:VEVENT
BEGIN:VEVENT
DTSTART;TZID=UTC:20191124T140000
DTEND;TZID=UTC:20191124T150000
DTSTAMP:20260425T161608
CREATED:20190916T201631Z
LAST-MODIFIED:20190916T201754Z
UID:1551-1574604000-1574607600@thinkartproject.com
SUMMARY:Think ART Committee meeting
DESCRIPTION:
URL:https://thinkartproject.com/event/think-art-committee-meeting-2/
LOCATION:Think Idea Studio\, 121 North Main Street\, Searcy\, AR\, 72143\, United States
END:VEVENT
BEGIN:VEVENT
DTSTART;TZID=UTC:20191101T183000
DTEND;TZID=UTC:20191101T183000
DTSTAMP:20260425T161608
CREATED:20190916T202413Z
LAST-MODIFIED:20190916T202413Z
UID:1560-1572633000-1572633000@thinkartproject.com
SUMMARY:1st Friday Art Night
DESCRIPTION:1st Friday Art Night is held the first Friday of every month in 2019! Come out to Art Alley in downtown Searcy across from Citizens Park\, behind Daisy’s Lunchbox. \nEnjoy live music\, great food\, and local artists working live in Art Alley. Don’t forget to stop by studios around Searcy who will also be open\, including: \n–Make.Do.\n–AJ’s Art Studio (Starting at 5:30pm)\n–Glass from the Past\n–Searcy Art Gallery\n–Gallery 803 (803 N Oak St.)\n–Midnight Oil\n–Stevens Art Galleries (Harding University)\n–Pollard Studio\n–Frans Art and Frame\n–The Artistry\n–Art Alley begins at 6:30 pm and has no set ending time.
URL:https://thinkartproject.com/event/1st-friday-art-night-2/
LOCATION:Art Alley
ATTACH;FMTTYPE=image/jpeg:https://thinkartproject.com/wp-content/uploads/2019/07/IMG_2554.jpg
END:VEVENT
BEGIN:VEVENT
DTSTART;TZID=UTC:20191027T140000
DTEND;TZID=UTC:20191027T150000
DTSTAMP:20260425T161608
CREATED:20190916T200743Z
LAST-MODIFIED:20190916T201739Z
UID:1544-1572184800-1572188400@thinkartproject.com
SUMMARY:Think ART Committee meeting
DESCRIPTION:
URL:https://thinkartproject.com/event/think-art-committee-meeting-1/
LOCATION:Think Idea Studio\, 121 North Main Street\, Searcy\, AR\, 72143\, United States
END:VEVENT
BEGIN:VEVENT
DTSTART;TZID=UTC:20191004T183000
DTEND;TZID=UTC:20191004T183000
DTSTAMP:20260425T161608
CREATED:20190916T202237Z
LAST-MODIFIED:20190916T202325Z
UID:1556-1570213800-1570213800@thinkartproject.com
SUMMARY:1st Friday Art Night
DESCRIPTION:1st Friday Art Night is held the first Friday of every month in 2019! Come out to Art Alley in downtown Searcy across from Citizens Park\, behind Daisy’s Lunchbox. \nEnjoy live music\, great food\, and local artists working live in Art Alley. Don’t forget to stop by studios around Searcy who will also be open\, including: \n–Make.Do.\n–AJ’s Art Studio (Starting at 5:30pm)\n–Glass from the Past\n–Searcy Art Gallery\n–Gallery 803 (803 N Oak St.)\n–Midnight Oil\n–Stevens Art Galleries (Harding University)\n–Pollard Studio\n–Frans Art and Frame\n–The Artistry\n–Art Alley begins at 6:30 pm and has no set ending time.
URL:https://thinkartproject.com/event/1st-friday-art-night/
LOCATION:Art Alley
ATTACH;FMTTYPE=image/jpeg:https://thinkartproject.com/wp-content/uploads/2019/07/IMG_2554.jpg
END:VEVENT
BEGIN:VEVENT
DTSTART;TZID=UTC:20190929T140000
DTEND;TZID=UTC:20190929T150000
DTSTAMP:20260425T161608
CREATED:20190916T201531Z
LAST-MODIFIED:20190916T201746Z
UID:1550-1569765600-1569769200@thinkartproject.com
SUMMARY:Think ART Committee meeting
DESCRIPTION:
URL:https://thinkartproject.com/event/think-art-committee-meeting/
LOCATION:Think Idea Studio\, 121 North Main Street\, Searcy\, AR\, 72143\, United States
END:VEVENT
END:VCALENDAR